BEGIN:VCALENDAR
PRODID:-//eluceo/ical//2.0/EN
VERSION:2.0
CALSCALE:GREGORIAN
BEGIN:VEVENT
UID:f0697cd9ae36c38938374df7afafc939
DTSTAMP:20260421T115656Z
SUMMARY:•JDAIM Reads! Book Club - Jewish Disability Awareness and Inclusi
 on Month
DESCRIPTION:UJA Federation of Greater Toronto\nJewish Toronto Calendar\nhtt
 ps://jewishtoronto.com/calendar/jdaim-reads-book-club---jewish-disability-
 awareness-and-inclusion-month-1450298637\n\nEnjoy engaging discussions abo
 ut books in an informal setting the first Thursday of the month. Facilitat
 ed by Beverley Fingerhut. \n\nFebruary 4 – The Story of a Beautiful Girl
 \, By Rachel Simon.  In honour of Jewish Disability Awareness and Inclusio
 n Month
DTSTART;TZID=America/Toronto:20160204T110000
DTEND;TZID=America/Toronto:20160204T123000
END:VEVENT
END:VCALENDAR
