BEGIN:VCALENDAR
PRODID:-//eluceo/ical//2.0/EN
VERSION:2.0
CALSCALE:GREGORIAN
BEGIN:VEVENT
UID:859969fe409b1674b74729c2b67d4808
DTSTAMP:20260423T131851Z
SUMMARY:JDAIM Reads!  Family Day Inclusive Storytelling Workship with PJ Li
 brary
DESCRIPTION:UJA Federation of Greater Toronto\nJewish Toronto Calendar\nhtt
 ps://jewishtoronto.com/calendar/jdaim-reads--family-day-inclusive-storytel
 ling-workship-with-pj-library-1450662184\n\nInclusive Children's Storytell
 ing workshop with playwright Alex Bulmer. Alex will also lead a circle tim
 e where children can ask her questions and meet her guidedog Zeus. PJ Libr
 ary will be on hand to facilitate crafts and introduce children to PJ Libr
 ary! FREE Family Day Fun
DTSTART;TZID=America/Toronto:20160215T101500
DTEND;TZID=America/Toronto:20160215T110000
END:VEVENT
END:VCALENDAR
