BEGIN:VCALENDAR
PRODID:-//eluceo/ical//2.0/EN
VERSION:2.0
CALSCALE:GREGORIAN
BEGIN:VEVENT
UID:78d8af58bfe8b71b3236726b8190e0e7
DTSTAMP:20260420T070131Z
SUMMARY:JDAIM Reads!  @Barbara Frum Library
DESCRIPTION:UJA Federation of Greater Toronto\nJewish Toronto Calendar\nhtt
 ps://jewishtoronto.com/calendar/jdaim-reads--barbara-frum-library-14520144
 60\n\nInclusive Children's Storytelling workshop with playwright Alex Bulm
 er. Alex will also lead a circle time where children can ask her questions
  and meet her guide dog Zeus. FREE preschool program. In celebration of Je
 wish Disability Awareness and Inclusion Month.
DTSTART;TZID=America/Toronto:20160217T133000
DTEND;TZID=America/Toronto:20160217T143000
END:VEVENT
END:VCALENDAR
