BEGIN:VCALENDAR
PRODID:-//eluceo/ical//2.0/EN
VERSION:2.0
CALSCALE:GREGORIAN
BEGIN:VEVENT
UID:7581b90e2804255c2540a3b4b5ad5be7
DTSTAMP:20260421T000106Z
SUMMARY:JDAIM Mother Daughter Melava Malka
DESCRIPTION:UJA Federation of Greater Toronto\nJewish Toronto Calendar\nhtt
 ps://jewishtoronto.com/calendar/jdaim-mother-daughter-melava-malka-1485357
 921\n\nJDAIM Mother Daughter Melava Malka
DTSTART;TZID=America/Toronto:20170218T203000
DTEND;TZID=America/Toronto:20170218T223000
END:VEVENT
END:VCALENDAR
