BEGIN:VCALENDAR
PRODID:-//eluceo/ical//2.0/EN
VERSION:2.0
CALSCALE:GREGORIAN
BEGIN:VEVENT
UID:77b8b8a5d18998f0228529c7771325c3
DTSTAMP:20260425T173411Z
SUMMARY:JDAIM Innovations in Accessible Technology
DESCRIPTION:UJA Federation of Greater Toronto\nJewish Toronto Calendar\nhtt
 ps://jewishtoronto.com/calendar/jdaim-innovations-in-accessible-technology
 -1516046002\n\nAn Evening with Oded Ben Dov of Sesame Enable\n\nA globally
  recognized technology expert turned social entrepreneur\, today Ben-Dov i
 s CEO of Sesame Enable\, creator of the first touch-free smartphone app fo
 r quadriplegics and people with disabilities called Open SesameT\, and an 
 advocate for life-changing\, technology solutions for people with physical
  challenges.\n\nJoin Oded for a look at disruptors in accessible and assit
 ive tech in Israel and beyond.\n\nPlease register for this free event!: ..
 .
DTSTART;TZID=America/Toronto:20180204T193000
DTEND;TZID=America/Toronto:20180204T210000
END:VEVENT
END:VCALENDAR
