BEGIN:VCALENDAR
PRODID:-//eluceo/ical//2.0/EN
VERSION:2.0
CALSCALE:GREGORIAN
BEGIN:VEVENT
UID:f723c7e3807ed58e076d83b1edca3e1f
DTSTAMP:20260420T112620Z
SUMMARY:JDAIM – Dani Parent Information Evening
DESCRIPTION:UJA Federation of Greater Toronto\nJewish Toronto Calendar\nhtt
 ps://jewishtoronto.com/calendar/jdaim--dani-parent-information-evening-148
 7958980\n\nGuest Speaker\; Judith McGill\nMs. McGill is a pioneer in plann
 ing and building futures. She is a dynamic speaker and you will be inspire
 d by her. Learn about 'microboards' \, Independent Facilitation and other 
 helpful information.\n\nRSVP necessary. Cost: $40\n\n \n\nJUDITH MCGILL w
 orks as Executive Director of a regional family governed organization in O
 ntario that is Families for a Secure Future. FSF is an Independent Facilit
 ation and Planning organization. Judith spends time with individua...
DTSTART;TZID=America/Toronto:20170307T193000
DTEND;TZID=America/Toronto:20170307T203000
END:VEVENT
END:VCALENDAR
