BEGIN:VCALENDAR
PRODID:-//eluceo/ical//2.0/EN
VERSION:2.0
CALSCALE:GREGORIAN
BEGIN:VEVENT
UID:efeb08629177d554e1afd5d41687ac32
DTSTAMP:20260424T160541Z
SUMMARY:JDAIM - No-Shush Shabbat Family Dinner
DESCRIPTION:UJA Federation of Greater Toronto\nJewish Toronto Calendar\nhtt
 ps://jewishtoronto.com/calendar/jdaim---no-shush-shabbat-family-dinner-148
 0712304\n\nPeople of all abilities and their families (infant to adult) ar
 e invited to a “no-shush” Shabbat dinner. Communal kosher dinner plus 
 Shabbat-friendly activities. People with disabilities\, families\, and all
 ies all welcome!
DTSTART;TZID=America/Toronto:20170203T180000
DTEND;TZID=America/Toronto:20170203T203000
END:VEVENT
END:VCALENDAR
