BEGIN:VCALENDAR
PRODID:-//eluceo/ical//2.0/EN
VERSION:2.0
CALSCALE:GREGORIAN
BEGIN:VEVENT
UID:68feeaaaa4bb526e9ae24175e1504947
DTSTAMP:20260422T054353Z
SUMMARY:JDAIM - Jungle Gym!
DESCRIPTION:UJA Federation of Greater Toronto\nJewish Toronto Calendar\nhtt
 ps://jewishtoronto.com/calendar/jdaim---jungle-gym-1480432284\n\nEnjoy a m
 orning full of play and fun with your family at the gym\, set up as a jung
 le gym for you and your children to explore. One of the best indoor playgr
 ounds in downtown Toronto. We are always pleased to welcome families throu
 gh our partnership with the Down Syndrome Association of Toronto (discount
  available through DSAT). (Ages 3-5)\nSundays and Wednesdays\n9:30 – 11:
 30 am\n$9 drop-in /family\nMembers: Free\n\nhttp://mnjcc.org/browse-by-int
 erest/accessibility/132-jungle-gym
DTSTART;TZID=America/Toronto:20170201T093000
DTEND;TZID=America/Toronto:20170201T113000
END:VEVENT
END:VCALENDAR
