BEGIN:VCALENDAR
PRODID:-//eluceo/ical//2.0/EN
VERSION:2.0
CALSCALE:GREGORIAN
BEGIN:VEVENT
UID:6978d5d876c6a94ea7232d6e28602e4b
DTSTAMP:20260421T170707Z
SUMMARY:JACS Toronto ‘Spinathon'
DESCRIPTION:UJA Federation of Greater Toronto\nJewish Toronto Calendar\nhtt
 ps://jewishtoronto.com/calendar/jacs-toronto-spinathon-time-tbd\n\nDetails
  to follow\n\n 
DTSTART;TZID=America/Toronto:20150419T000000
DTEND;TZID=America/Toronto:20150419T000000
END:VEVENT
END:VCALENDAR
