BEGIN:VCALENDAR
PRODID:-//eluceo/ical//2.0/EN
VERSION:2.0
CALSCALE:GREGORIAN
BEGIN:VEVENT
UID:6b122e10d774d21fb466eb5d5aed24bc
DTSTAMP:20260423T174728Z
SUMMARY:JACS Toronto ‘Spinathon’
DESCRIPTION:UJA Federation of Greater Toronto\nJewish Toronto Calendar\nhtt
 ps://jewishtoronto.com/calendar/jacs-toronto-spinathon\n\nFurther details 
 to follow.
DTSTART;TZID=America/Toronto:20160410T090000
DTEND;TZID=America/Toronto:20160410T120000
END:VEVENT
END:VCALENDAR
