BEGIN:VCALENDAR
PRODID:-//eluceo/ical//2.0/EN
VERSION:2.0
CALSCALE:GREGORIAN
BEGIN:VEVENT
UID:244be2962526058be386b52f85b7aa1c
DTSTAMP:20260425T213600Z
SUMMARY:JACS Toronto Comedy Night
DESCRIPTION:UJA Federation of Greater Toronto\nJewish Toronto Calendar\nhtt
 ps://jewishtoronto.com/calendar/jacs-toronto-comedy-night-1740511309\n\nJA
 CS Toronto Annual Comedy Night
DTSTART;TZID=America/Toronto:20251126T190000
DTEND;TZID=America/Toronto:20251126T220000
END:VEVENT
END:VCALENDAR
