BEGIN:VCALENDAR
PRODID:-//eluceo/ical//2.0/EN
VERSION:2.0
CALSCALE:GREGORIAN
BEGIN:VEVENT
UID:0944ed33da5c26ed1a8499dc3446bc2a
DTSTAMP:20260419T232109Z
SUMMARY:JACS Golf Day
DESCRIPTION:UJA Federation of Greater Toronto\nJewish Toronto Calendar\nhtt
 ps://jewishtoronto.com/calendar/jacs-golf-day-1650907042\n\nA full day of 
 golf (18 holes) including meals and drinks
DTSTART;TZID=America/Toronto:20220816T100000
DTEND;TZID=America/Toronto:20220816T220000
END:VEVENT
END:VCALENDAR
