BEGIN:VCALENDAR
PRODID:-//eluceo/ical//2.0/EN
VERSION:2.0
CALSCALE:GREGORIAN
BEGIN:VEVENT
UID:0a6aae3f3957f0f98fc3e3b332e9ab27
DTSTAMP:20260423T033517Z
SUMMARY:JACS Fitathon
DESCRIPTION:UJA Federation of Greater Toronto\nJewish Toronto Calendar\nhtt
 ps://jewishtoronto.com/calendar/jacs-fitathon-1524168880\n\nThis is the ma
 keup date for the JACS Fitathon.
DTSTART;TZID=America/Toronto:20180523T190000
DTEND;TZID=America/Toronto:20180523T213000
END:VEVENT
END:VCALENDAR
