BEGIN:VCALENDAR
PRODID:-//eluceo/ical//2.0/EN
VERSION:2.0
CALSCALE:GREGORIAN
BEGIN:VEVENT
UID:15cccb4c76907183b6bb0adc79748944
DTSTAMP:20260421T002322Z
SUMMARY:JACS Comedy Night
DESCRIPTION:UJA Federation of Greater Toronto\nJewish Toronto Calendar\nhtt
 ps://jewishtoronto.com/calendar/jacs-comedy-night-1661457614\n\nComedy Nig
 ht in support of JACS Toronto
DTSTART;TZID=America/Toronto:20221114T070000
DTEND;TZID=America/Toronto:20221114T220000
END:VEVENT
END:VCALENDAR
