BEGIN:VCALENDAR
PRODID:-//eluceo/ical//2.0/EN
VERSION:2.0
CALSCALE:GREGORIAN
BEGIN:VEVENT
UID:c249ccf54b191546781910b69ccdbd43
DTSTAMP:20260424T062533Z
SUMMARY:JACS Comedy Night
DESCRIPTION:UJA Federation of Greater Toronto\nJewish Toronto Calendar\nhtt
 ps://jewishtoronto.com/calendar/jacs-comedy-night-1467215727\n\nJoin us fo
 r an evening of laughs with world renown comedian 'Sarge' in support of JA
 CS Toronto.
DTSTART;TZID=America/Toronto:20161107T190000
DTEND;TZID=America/Toronto:20161107T220000
END:VEVENT
END:VCALENDAR
