BEGIN:VCALENDAR
PRODID:-//eluceo/ical//2.0/EN
VERSION:2.0
CALSCALE:GREGORIAN
BEGIN:VEVENT
UID:616cd119cd2ee524a825150cfb7617ae
DTSTAMP:20260424T223624Z
SUMMARY:JACS 6th Annual Spinathon
DESCRIPTION:UJA Federation of Greater Toronto\nJewish Toronto Calendar\nhtt
 ps://jewishtoronto.com/calendar/jacs-6th-annual-spinathon\n\nSpinathon
DTSTART;TZID=America/Toronto:20140302T094500
DTEND;TZID=America/Toronto:20140302T210000
END:VEVENT
END:VCALENDAR
