BEGIN:VCALENDAR
PRODID:-//eluceo/ical//2.0/EN
VERSION:2.0
CALSCALE:GREGORIAN
BEGIN:VEVENT
UID:7ce15c5e02820578f83250ce21cfb569
DTSTAMP:20260420T161014Z
SUMMARY:JACS  Fit-a-Thon  & Family Fun Day
DESCRIPTION:UJA Federation of Greater Toronto\nJewish Toronto Calendar\nhtt
 ps://jewishtoronto.com/calendar/jacs--fit-a-thon---family-fun-day-15494115
 23\n\nJACS Fit-a-Thon & Family Fun Day
DTSTART;TZID=America/Toronto:20190331T080000
DTEND;TZID=America/Toronto:20190331T163000
END:VEVENT
END:VCALENDAR
