BEGIN:VCALENDAR
PRODID:-//eluceo/ical//2.0/EN
VERSION:2.0
CALSCALE:GREGORIAN
BEGIN:VEVENT
UID:2f5e76adf9ba4076b1648134776313e5
DTSTAMP:20260426T000812Z
SUMMARY:Jacques Kornberg - Pope Pius XII: The Pope’s Dilemma during World
  War II
DESCRIPTION:UJA Federation of Greater Toronto\nJewish Toronto Calendar\nhtt
 ps://jewishtoronto.com/calendar/jacques-kornberg---pope-pius-xii-the-popes
 -dilemma-during-world-war-ii-1454565014\n\nPope Pius XII never explicitly 
 condemned Nazi Germany’s murder of European Jewry during the Second Worl
 d War.  Why he did not still remains a matter of controversy 70 years afte
 r the end of the war.  Prof. Jacques Kornberg will offer an explanation of
  why he acted as he did.
DTSTART;TZID=America/Toronto:20160402T131500
DTEND;TZID=America/Toronto:20160402T141500
END:VEVENT
END:VCALENDAR
