BEGIN:VCALENDAR
PRODID:-//eluceo/ical//2.0/EN
VERSION:2.0
CALSCALE:GREGORIAN
BEGIN:VEVENT
UID:0afd657b8852d890bdbc0877f849c70b
DTSTAMP:20260421T073635Z
SUMMARY:J Rikudiyah\, the Israeli Folk Dancing Festival
DESCRIPTION:UJA Federation of Greater Toronto\nJewish Toronto Calendar\nhtt
 ps://jewishtoronto.com/calendar/j-rikudiyah-the-israeli-folk-dancing-festi
 val-1549652857\n\nJ Rikudiyah is taking place on Sunday\, April 14th\, 201
 9 at 2:30 pm at the Schwartz/Reisman Centre\, 9600 Bathurst St\, Vaughan\,
  doors open at 2 pm.\n\nFor more information or registration please contac
 t Andrea Daiam at  andrea@srcentre.ca
DTSTART;TZID=America/Toronto:20190414T143000
DTEND;TZID=America/Toronto:20190414T163000
END:VEVENT
END:VCALENDAR
