BEGIN:VCALENDAR
PRODID:-//eluceo/ical//2.0/EN
VERSION:2.0
CALSCALE:GREGORIAN
BEGIN:VEVENT
UID:d34a2a998d3d647d5ffd3b281b2714c4
DTSTAMP:20260424T053833Z
SUMMARY:Israeli Film Series
DESCRIPTION:UJA Federation of Greater Toronto\nJewish Toronto Calendar\nhtt
 ps://jewishtoronto.com/calendar/israreli-film-series\n\nThis series will s
 creen two films from Israel\, and feature a reception with the stars. Apri
 l 21 is the showing of On the Map\, the incredible story of Maccabi Tel 
 Aviv's 1977 European Championship\, at a time when the Middle East was sti
 ll reeling from the 1973 Yom Kippur War\, the 1972 Olympic Massacre at Mun
 ich and the 1976 highjacking of an Air France jet from tel Aviv. Through 
 the lens of sports\, a much broader story is told of how one team captured
  the hearts of a nation. A Saturday nigh...
DTSTART;TZID=America/Toronto:20180421T190000
DTEND;TZID=America/Toronto:20180422T230000
END:VEVENT
END:VCALENDAR
