BEGIN:VCALENDAR
PRODID:-//eluceo/ical//2.0/EN
VERSION:2.0
CALSCALE:GREGORIAN
BEGIN:VEVENT
UID:b8997ee7320cb54770d2b81a6476867e
DTSTAMP:20260420T110917Z
SUMMARY:Israel’s plan to annex the Jordan Valley: foresight or folly?
DESCRIPTION:UJA Federation of Greater Toronto\nJewish Toronto Calendar\nhtt
 ps://jewishtoronto.com/calendar/israels-plan-to-annex-the-jordan-valley-fo
 resight-or-folly-1592844103\n\nJoin me for a riveting journey as we follow
  historical maps that outline the geopolitical changes and momentous event
 s that led to today’s reality. Let’s delve together into this complex 
 story to better comprehend the consequences of a potential annexation.
DTSTART;TZID=America/Toronto:20200628T110000
DTEND;TZID=America/Toronto:20200628T123000
END:VEVENT
END:VCALENDAR
