BEGIN:VCALENDAR
PRODID:-//eluceo/ical//2.0/EN
VERSION:2.0
CALSCALE:GREGORIAN
BEGIN:VEVENT
UID:f59fc57cad564f0fc4a7a46f5116522d
DTSTAMP:20260420T085758Z
SUMMARY:Israeli Songs of Peace\, During and Between Wars
DESCRIPTION:UJA Federation of Greater Toronto\nJewish Toronto Calendar\nhtt
 ps://jewishtoronto.com/calendar/israeli-songs-of-peace-during-and-between-
 wars-1477075358\n\nLecture with song clips with Kobi Hass. Trace the evolu
 tion of Israel's peace anthems from the 1930s to the present\, as they mov
 e from hopeful yearning to a call to action.
DTSTART;TZID=America/Toronto:20161113T140000
DTEND;TZID=America/Toronto:20161113T153000
END:VEVENT
END:VCALENDAR
