BEGIN:VCALENDAR
PRODID:-//eluceo/ical//2.0/EN
VERSION:2.0
CALSCALE:GREGORIAN
BEGIN:VEVENT
UID:5c39786a6811a365bb64a7f32230dab5
DTSTAMP:20260420T144315Z
SUMMARY:Israeli Relations in The Trump Era
DESCRIPTION:UJA Federation of Greater Toronto\nJewish Toronto Calendar\nhtt
 ps://jewishtoronto.com/calendar/israeli-relations-in-the-trump-era-1488830
 805\n\nJoin American presidential historian and CJN columnist Gil Tory for
  an insightul and engaging analysis of the Israel-U.S. relationship. Gil T
 roy is a leading political historian\, and one of today’s most prominent
  activists in the fight against the delegitimization of Israel.He is Profe
 ssor of History at McGill University\, and a Research Fellow in the Shalom
  Hartman Institute’s Engaging Israel Program. Professor Troy’s writing
 s have appeared in The New York Times\, The New Republic\, and o...
DTSTART;TZID=America/Toronto:20170328T193000
DTEND;TZID=America/Toronto:20170328T210000
END:VEVENT
END:VCALENDAR
