BEGIN:VCALENDAR
PRODID:-//eluceo/ical//2.0/EN
VERSION:2.0
CALSCALE:GREGORIAN
BEGIN:VEVENT
UID:75f90295100a947f4820a45611dff86e
DTSTAMP:20260425T163838Z
SUMMARY:Israeli Family Tu Bishvat Seder
DESCRIPTION:UJA Federation of Greater Toronto\nJewish Toronto Calendar\nhtt
 ps://jewishtoronto.com/calendar/israeli-family-tu-bishvat-seder\n\nSunday 
 February 1 | 11:00 am – 1:30 pm\nCo-presented by Hillel and the Miles Na
 dal JCC\nat the Wolfond Centre (36 Harbord St)\nCome celebrate Tu Bishvat 
 and Yom Hamishpacha with a seder\, arts & crafts\, planting seeds and lunc
 h!\n$15 per family\nRegister: Liraz Rot Rolnitsky (416) 924-6211 x 321 lir
 azr@mnjcc.org\n 
DTSTART;TZID=America/Toronto:20150201T110000
DTEND;TZID=America/Toronto:20150201T133000
END:VEVENT
END:VCALENDAR
