BEGIN:VCALENDAR
PRODID:-//eluceo/ical//2.0/EN
VERSION:2.0
CALSCALE:GREGORIAN
BEGIN:VEVENT
UID:a92f93487b13319f252bc5d26fc87a36
DTSTAMP:20260420T085608Z
SUMMARY:Israeli Family Kabbalat Shabbat
DESCRIPTION:UJA Federation of Greater Toronto\nJewish Toronto Calendar\nhtt
 ps://jewishtoronto.com/calendar/israeli-family-kabbalat-shabbat-1472143031
 \n\nStart the weekend with friends in a casual Israeli Shabbat environment
 . Friday night community dinners for families with young children offer yo
 u a chance to reconnect and meet new people while the children enjoy stori
 es\, games and activities in Hebrew.\n
DTSTART;TZID=America/Toronto:20160916T180000
DTEND;TZID=America/Toronto:20160916T203000
END:VEVENT
END:VCALENDAR
