BEGIN:VCALENDAR
PRODID:-//eluceo/ical//2.0/EN
VERSION:2.0
CALSCALE:GREGORIAN
BEGIN:VEVENT
UID:6cb4962f23e030586de5ed9a2f5b8492
DTSTAMP:20260422T144044Z
SUMMARY:Israel Story LIVE presents Mixtape: Israel’s Ultimate Playlist
DESCRIPTION:UJA Federation of Greater Toronto\nJewish Toronto Calendar\nhtt
 ps://jewishtoronto.com/calendar/israel-story-live-presents-mixtape-israels
 -ultimate-playlist-1522950914\n\nMark your calendars\, and prepare yoursel
 f for an unforgettable evening of phenomenal live music\, incredible visua
 ls and – more than anything else – the surprising brand of ‘Israel S
 tory’ stories you’ve all come to love.
DTSTART;TZID=America/Toronto:20180416T193000
DTEND;TZID=America/Toronto:20180416T193000
END:VEVENT
END:VCALENDAR
