BEGIN:VCALENDAR
PRODID:-//eluceo/ical//2.0/EN
VERSION:2.0
CALSCALE:GREGORIAN
BEGIN:VEVENT
UID:1f0935438aef78433c1dfd4bad019027
DTSTAMP:20260425T235134Z
SUMMARY:Israel & Overseas Consultation Mission to Israel - Spring 2015 Cons
 ultation
DESCRIPTION:UJA Federation of Greater Toronto\nJewish Toronto Calendar\nhtt
 ps://jewishtoronto.com/calendar/israel-overseas-consultation-mission-to-is
 rael-spring-2015-consultation\n\nIsrael & Overseas Consultation Mission to
  Israel - Spring 2015 Consultation
DTSTART;TZID=America/Toronto:20150510T000000
DTEND;TZID=America/Toronto:20150514T000000
END:VEVENT
END:VCALENDAR
