BEGIN:VCALENDAR
PRODID:-//eluceo/ical//2.0/EN
VERSION:2.0
CALSCALE:GREGORIAN
BEGIN:VEVENT
UID:855e909ed7e693c77295e9407e9443cc
DTSTAMP:20260425T165411Z
SUMMARY:Israel Guide Dog Evening of Miracles Gala
DESCRIPTION:UJA Federation of Greater Toronto\nJewish Toronto Calendar\nhtt
 ps://jewishtoronto.com/calendar/israel-guide-dog-evening-of-miracles-gala-
 1757967334\n\nThe Evening of Miracles gala is more than a celebration—it
 ’s a catalyst for change. By bringing our community together around movi
 ng stories and unforgettable performances\, the event raises critical fund
 s to train instructors\, support puppies-in-training\, and match more Isra
 elis with life-changing guide and service dogs. Each gift shortens the wai
 t for someone seeking independence\, safety\, and confidence. The night’
 s energy echoes long after the last song\, fueling new partnerships\, awar
 ...
DTSTART;TZID=America/Toronto:20261115T180000
DTEND;TZID=America/Toronto:20261115T220000
END:VEVENT
END:VCALENDAR
