BEGIN:VCALENDAR
PRODID:-//eluceo/ical//2.0/EN
VERSION:2.0
CALSCALE:GREGORIAN
BEGIN:VEVENT
UID:b2ece2eeb279a6d435b214d1a4029d35
DTSTAMP:20260419T154539Z
SUMMARY:Israel Guide Dog Center Movie Screening
DESCRIPTION:UJA Federation of Greater Toronto\nJewish Toronto Calendar\nhtt
 ps://jewishtoronto.com/calendar/israel-guide-dog-center-movie-screening-16
 47963422\n\nPick of the Litter Screening and Q & A\n\nJoin us for a specia
 l screening of the award-winning documentary Pick of the Litter\, which fo
 llows a litter of puppies from the moment they're born and begin their que
 st to become Guide Dogs for the Blind\, the ultimate canine career.\n\nCam
 eras follow these pups through a two-year odyssey as they train to become 
 dogs whose ultimate responsibility is to protect their blind partners from
  harm. Along the way\, the dogs meet a community of dedicated indivi...
DTSTART;TZID=America/Toronto:20220515T130000
DTEND;TZID=America/Toronto:20220515T150000
END:VEVENT
END:VCALENDAR
