BEGIN:VCALENDAR
PRODID:-//eluceo/ical//2.0/EN
VERSION:2.0
CALSCALE:GREGORIAN
BEGIN:VEVENT
UID:d7878ef05e6d5e2bc95f4183c732bef6
DTSTAMP:20260422T124311Z
SUMMARY:Israel Groove with Maccabi Canada
DESCRIPTION:UJA Federation of Greater Toronto\nJewish Toronto Calendar\nhtt
 ps://jewishtoronto.com/calendar/israel-groove-with-maccabi-canada-14928043
 83\n\nJoin Maccabi Canada athletes and coaches along with MNjcc fitness tr
 ainers for soccer\, basketball\, and floor hockey. Plus Israeli folk danci
 ng\, face painting and drumming all to celebrate the 69th Yom Haatzmaut.\n
 FREE and open to all\n\n
DTSTART;TZID=America/Toronto:20170507T100000
DTEND;TZID=America/Toronto:20170507T140000
END:VEVENT
END:VCALENDAR
