BEGIN:VCALENDAR
PRODID:-//eluceo/ical//2.0/EN
VERSION:2.0
CALSCALE:GREGORIAN
BEGIN:VEVENT
UID:c048da624b170e09c316923ba60d67b1
DTSTAMP:20260422T143456Z
SUMMARY:Na'amat Canada (Toronto) - Israel Day Festival
DESCRIPTION:UJA Federation of Greater Toronto\nJewish Toronto Calendar\nhtt
 ps://jewishtoronto.com/calendar/israel-day-festival-naamat-canada-toronto-
 1465395606\n\n22ND ANNUAL ISRAEL DAY FESTIVAL\n\nFree admission\, Fun for 
 the whole family\, bring your kids\, grandparents\, aunts and uncles!\n\nC
 hildren’s village featuring rides\, jumping castles\, on stage entertain
 ment all day\, vendors\, community organizations and Kosher food.\n\nFor 
 vendor Information contact marlene.rosen@naamat.com : or call 416-636-5425
DTSTART;TZID=America/Toronto:20170604T100000
DTEND;TZID=America/Toronto:20170604T170000
END:VEVENT
END:VCALENDAR
