BEGIN:VCALENDAR
PRODID:-//eluceo/ical//2.0/EN
VERSION:2.0
CALSCALE:GREGORIAN
BEGIN:VEVENT
UID:b718fc0b255e53a06b190e6543dbf675
DTSTAMP:20260419T172552Z
SUMMARY:Israel Day Festival - Na'amat Canada Toronto
DESCRIPTION:UJA Federation of Greater Toronto\nJewish Toronto Calendar\nhtt
 ps://jewishtoronto.com/calendar/israel-day-festival---naamat-canada-toront
 o-1581356552\n\nSunday\, June 7th - 10:00am - 4:00pm\nBialik Hebrew Day Sc
 hool - Himel Campus - 180 Ilan Ramon Blvd.  in Vaughan\n
DTSTART;TZID=America/Toronto:20200607T100000
DTEND;TZID=America/Toronto:20200607T160000
END:VEVENT
END:VCALENDAR
