BEGIN:VCALENDAR
PRODID:-//eluceo/ical//2.0/EN
VERSION:2.0
CALSCALE:GREGORIAN
BEGIN:VEVENT
UID:8751ce61c8fa5155e1736a97a30d12c2
DTSTAMP:20260422T160043Z
SUMMARY:Israel Culture Club - Film: Beneath the Helmet
DESCRIPTION:UJA Federation of Greater Toronto\nJewish Toronto Calendar\nhtt
 ps://jewishtoronto.com/calendar/israel-culture-club-film-beneath-the-helme
 t\n\nFilm and discussion: Beneath the Helmet: A coming - of-age story whic
 h follows the journey of five Israeli high school graduates who are drafte
 d int the army to defend their country. At the age of 18\, away from their
  homes\, families and friends\, these young individuals undergo a demandin
 g\, inspiring journey\, revealing the core of who they are and who they wa
 nt to be.\n\n\nEveryone is welcome. There is no charge.
DTSTART;TZID=America/Toronto:20170228T193000
DTEND;TZID=America/Toronto:20170228T210000
END:VEVENT
END:VCALENDAR
