BEGIN:VCALENDAR
PRODID:-//eluceo/ical//2.0/EN
VERSION:2.0
CALSCALE:GREGORIAN
BEGIN:VEVENT
UID:028a22054bc717befa2fde9e8501341a
DTSTAMP:20260422T223959Z
SUMMARY:Israel Cancer Research Fund (ICRF) - Women Of Action Luncheon
DESCRIPTION:UJA Federation of Greater Toronto\nJewish Toronto Calendar\nhtt
 ps://jewishtoronto.com/calendar/israel-cancer-research-fund-women-of-actio
 n-luncheon\n\nThe Women of Action Award recognizes outstanding individuals
  who have made a difference through their achievements\, leadership and de
 dication in the business\, medical and philanthropic communities\, bringin
 g the very best standards of life to our society.\n\nThese women excel in 
 their fields and represent a strong sense of their chosen professions and 
 an equally strong compassion for humanitarian causes\, by distinguishing t
 hemselves as truly charitable and benevolent people.\n\nSince its begin...
DTSTART;TZID=America/Toronto:20170426T113000
DTEND;TZID=America/Toronto:20170426T140000
END:VEVENT
END:VCALENDAR
