BEGIN:VCALENDAR
PRODID:-//eluceo/ical//2.0/EN
VERSION:2.0
CALSCALE:GREGORIAN
BEGIN:VEVENT
UID:f299796eba61db19c05a2484fa0ebe13
DTSTAMP:20260422T120211Z
SUMMARY:Israel Bonds Women's Division Golda Meir Luncheon
DESCRIPTION:UJA Federation of Greater Toronto\nJewish Toronto Calendar\nhtt
 ps://jewishtoronto.com/calendar/israel-bonds-womens-division-golda-meir-lu
 ncheon-1556635332\n\nLuncheon Honouring Lesley Binstock Offman with the Is
 rael Bonds Women's Division Golda Meir Leadership Award.\nurkiniecz\nKeshe
 r recipients: Renee Cohen\, Anna Shternshis\, Rachael Turkeniecz\n\nMinimu
 m Israel Bond purchase required.
DTSTART;TZID=America/Toronto:20190605T113000
DTEND;TZID=America/Toronto:20190605T140000
END:VEVENT
END:VCALENDAR
