BEGIN:VCALENDAR
PRODID:-//eluceo/ical//2.0/EN
VERSION:2.0
CALSCALE:GREGORIAN
BEGIN:VEVENT
UID:d0038377ec6613a8a940e45c89bd1d1a
DTSTAMP:20260422T034048Z
SUMMARY:Israel Bonds\, Women's Division - What if…..your life changes
DESCRIPTION:UJA Federation of Greater Toronto\nJewish Toronto Calendar\nhtt
 ps://jewishtoronto.com/calendar/israel-bonds-womens-division---what-ifyour
 -life-changes-1686230638\n\nIsrael Bonds / Women's Division present "What 
 if…..your life changes"\nDetails TBC
DTSTART;TZID=America/Toronto:20230920T190000
DTEND;TZID=America/Toronto:20230920T210000
END:VEVENT
END:VCALENDAR
