BEGIN:VCALENDAR
PRODID:-//eluceo/ical//2.0/EN
VERSION:2.0
CALSCALE:GREGORIAN
BEGIN:VEVENT
UID:4b6d657d4dd6a82fe46e262fd8fde926
DTSTAMP:20260421T142845Z
SUMMARY:Israel Bonds Presents Dr. Gillian Leithman\, The Art & Science of H
 appiness
DESCRIPTION:UJA Federation of Greater Toronto\nJewish Toronto Calendar\nhtt
 ps://jewishtoronto.com/calendar/israel-bonds-presents-dr-gillian-leithman-
 the-art--science-of-happiness-1651767930\n\nIsrael Bonds Women's Division 
 Presents: Dr. Gillian Leithman\, The Art & Science of Happiness\n\nEvent L
 ocation & address to be announced upon registration.
DTSTART;TZID=America/Toronto:20220615T140000
DTEND;TZID=America/Toronto:20220615T160000
END:VEVENT
END:VCALENDAR
