BEGIN:VCALENDAR
PRODID:-//eluceo/ical//2.0/EN
VERSION:2.0
CALSCALE:GREGORIAN
BEGIN:VEVENT
UID:10243b0acf883a42b0dfdaf75e43cfe7
DTSTAMP:20260420T022734Z
SUMMARY:Israel Bonds Money Matters  : A Financial event for Women by Women
DESCRIPTION:UJA Federation of Greater Toronto\nJewish Toronto Calendar\nhtt
 ps://jewishtoronto.com/calendar/israel-bonds-money-matters---a-financial-e
 vent-for-women-by-women-1764170802\n\nA Financial event for Women by Women
 .
DTSTART;TZID=America/Toronto:20260114T193000
DTEND;TZID=America/Toronto:20260114T213000
END:VEVENT
END:VCALENDAR
