BEGIN:VCALENDAR
PRODID:-//eluceo/ical//2.0/EN
VERSION:2.0
CALSCALE:GREGORIAN
BEGIN:VEVENT
UID:ffe6f9023562385a654320e35b0839c9
DTSTAMP:20260423T172241Z
SUMMARY:Israel Bonds 75th anniversary special exhibit
DESCRIPTION:UJA Federation of Greater Toronto\nJewish Toronto Calendar\nhtt
 ps://jewishtoronto.com/calendar/israel-bonds-75th-anniversary-special-exhi
 bit-1746473062\n\nI AM ISRAEL: A celebration of the 75th anniversary of Is
 rael Bonds\n\nMidtown Toronto location to be advised.
DTSTART;TZID=America/Toronto:20260513T110000
DTEND;TZID=America/Toronto:20260513T210000
END:VEVENT
END:VCALENDAR
