BEGIN:VCALENDAR
PRODID:-//eluceo/ical//2.0/EN
VERSION:2.0
CALSCALE:GREGORIAN
BEGIN:VEVENT
UID:2a340f8d1e6eed9ea94801a27c00dcf5
DTSTAMP:20260425T210322Z
SUMMARY:Israel and the World
DESCRIPTION:UJA Federation of Greater Toronto\nJewish Toronto Calendar\nhtt
 ps://jewishtoronto.com/calendar/israel-and-the-world-1679759033\n\nThe Can
 adian Institute for Jewish Research (CIJR) proudly presents this extremely
  significant webinar on Israel's geopolitical position within the world. C
 IJR founder and Executive Director Prof. Frederick Krantz\, a historian\, 
 and CIJR Academic Board member and political columnist Barbara Kay will ta
 ckle the broader issues facing Israel\, including the US\, Iran\, China an
 d Russia.\n\nTo register\, visit the following link:\nhttps://us06web.zoom
 .us/webinar/register/WN_cgmWPcpLTY2X-t9qkLrPlQ
DTSTART;TZID=America/Toronto:20230418T193000
DTEND;TZID=America/Toronto:20230418T210000
END:VEVENT
END:VCALENDAR
