BEGIN:VCALENDAR
PRODID:-//eluceo/ical//2.0/EN
VERSION:2.0
CALSCALE:GREGORIAN
BEGIN:VEVENT
UID:d781cfa42b114376ea4b3644da1c5cb1
DTSTAMP:20260424T110447Z
SUMMARY:Israel-70
DESCRIPTION:UJA Federation of Greater Toronto\nJewish Toronto Calendar\nhtt
 ps://jewishtoronto.com/calendar/israel-70-1525805226\n\nEvent dedicated to
  the 70th anniversary of Israel
DTSTART;TZID=America/Toronto:20180527T170000
DTEND;TZID=America/Toronto:20180527T200000
END:VEVENT
END:VCALENDAR
