BEGIN:VCALENDAR
PRODID:-//eluceo/ical//2.0/EN
VERSION:2.0
CALSCALE:GREGORIAN
BEGIN:VEVENT
UID:df571169371f6c91d6830e4c47145887
DTSTAMP:20260421T112618Z
SUMMARY:Is there a future for the Jews of europe?
DESCRIPTION:UJA Federation of Greater Toronto\nJewish Toronto Calendar\nhtt
 ps://jewishtoronto.com/calendar/is-there-a-future-for-the-jews-of-europe\n
 \nRegistration opens at 11:30AM.\n\nTickets:  $10 (online) | $15 (at the 
 door)
DTSTART;TZID=America/Toronto:20150426T130000
DTEND;TZID=America/Toronto:20150426T150000
END:VEVENT
END:VCALENDAR
