BEGIN:VCALENDAR
PRODID:-//eluceo/ical//2.0/EN
VERSION:2.0
CALSCALE:GREGORIAN
BEGIN:VEVENT
UID:79c7bb62f098201fc56ef05eb966e593
DTSTAMP:20260424T112649Z
SUMMARY:Intrafaith Remembrance Day Concert & Ceremony
DESCRIPTION:UJA Federation of Greater Toronto\nJewish Toronto Calendar\nhtt
 ps://jewishtoronto.com/calendar/intrafaith-remembrance-day-concert--ceremo
 ny-1539178459\n\nBeth Tzedec Congregation invites the community to attend 
 a Remembrance Day Concert & Ceremony marking the 100th anniversary of the 
 end of World War I. Various community groups will be participating in the 
 concert\, which is free and open to the public.
DTSTART;TZID=America/Toronto:20181111T100000
DTEND;TZID=America/Toronto:20181111T235900
END:VEVENT
END:VCALENDAR
