BEGIN:VCALENDAR
PRODID:-//eluceo/ical//2.0/EN
VERSION:2.0
CALSCALE:GREGORIAN
BEGIN:VEVENT
UID:1781440048b44ffbdba219dd848fa80e
DTSTAMP:20260423T184026Z
SUMMARY:International Women’s Day\, We will make it happen
DESCRIPTION:UJA Federation of Greater Toronto\nJewish Toronto Calendar\nhtt
 ps://jewishtoronto.com/calendar/international-womens-day-we-will-make-it-h
 appen\n\nNa’amat Canada Toronto\, along with Canadian Council of Muslim 
 Women\, Canadian Association of Jews and Muslims and Women’s Intercultur
 al Network will host an afternoon celebrating women through our love of fo
 od\, music and enlightening discussions.\n\n$10.00 advance admission\, $15
 .00 door price\, $5.00 student with valid ID\n\n \n\n \n\n 
DTSTART;TZID=America/Toronto:20150308T133000
DTEND;TZID=America/Toronto:20150308T163000
END:VEVENT
END:VCALENDAR
