BEGIN:VCALENDAR
PRODID:-//eluceo/ical//2.0/EN
VERSION:2.0
CALSCALE:GREGORIAN
BEGIN:VEVENT
UID:90ea1c4a200f4101095de898e70041f8
DTSTAMP:20260421T070153Z
SUMMARY:International Women's Day
DESCRIPTION:UJA Federation of Greater Toronto\nJewish Toronto Calendar\nhtt
 ps://jewishtoronto.com/calendar/international-womens-day-1519245689\n\nNa
 ’amat Canada Toronto Presents: International Women’s Day. Join us for 
 a presentation by speaker Stephanie Chiang\, here to speak about “Human 
 Trafficking in our Backyard\,” on behalf of the Meeting Professionals Ag
 ainst Human Trafficking (MPAHT) and the Toronto Police Service. Come to le
 arn more about human trafficking and what can be done to combat this heino
 us crime.\n\nTickets are $10 and will be sold online and at the door\; tic
 kets are $5 for students. To register please call 416-...
DTSTART;TZID=America/Toronto:20180308T193000
DTEND;TZID=America/Toronto:20180308T213000
END:VEVENT
END:VCALENDAR
