BEGIN:VCALENDAR
PRODID:-//eluceo/ical//2.0/EN
VERSION:2.0
CALSCALE:GREGORIAN
BEGIN:VEVENT
UID:c718b837a78aac4d05d3249fdb695f03
DTSTAMP:20260423T144852Z
SUMMARY:International Women's Day
DESCRIPTION:UJA Federation of Greater Toronto\nJewish Toronto Calendar\nhtt
 ps://jewishtoronto.com/calendar/international-womens-day-1455731306\n\nWor
 ds Not Spoken\, Not a Sexy Subject\nDispelling Myths & Stereotypes of Dome
 stic Abuse in our Community\n\nGuest Speaker: Penny Krowitz\, CAE\n\nCouve
 rt: $10.00 in advance\, $15.00 at the door.\nRefreshments will be served.\
 nTo Register www.naamat.com/toronto or call 416-636-5425
DTSTART;TZID=America/Toronto:20160308T193000
DTEND;TZID=America/Toronto:20160308T213000
END:VEVENT
END:VCALENDAR
