BEGIN:VCALENDAR
PRODID:-//eluceo/ical//2.0/EN
VERSION:2.0
CALSCALE:GREGORIAN
BEGIN:VEVENT
UID:22f52d3b07b4d374ac3a3e7961623ba6
DTSTAMP:20260422T181633Z
SUMMARY:International Lion of Judah Event
DESCRIPTION:UJA Federation of Greater Toronto\nJewish Toronto Calendar\nhtt
 ps://jewishtoronto.com/calendar/international-lion-of-judah-event-15384806
 78\n\nInternational Lion of Judah Event
DTSTART;TZID=America/Toronto:20190113T000000
DTEND;TZID=America/Toronto:20190115T000000
END:VEVENT
END:VCALENDAR
