BEGIN:VCALENDAR
PRODID:-//eluceo/ical//2.0/EN
VERSION:2.0
CALSCALE:GREGORIAN
BEGIN:VEVENT
UID:4f8567007eb8a2dd1953dd994d064a02
DTSTAMP:20260420T005306Z
SUMMARY:International Lion of Judah Conference
DESCRIPTION:UJA Federation of Greater Toronto\nJewish Toronto Calendar\nhtt
 ps://jewishtoronto.com/calendar/international-lion-of-judah-conference1\n\
 nDetails to follow. 
DTSTART;TZID=America/Toronto:20221211T000000
DTEND;TZID=America/Toronto:20221213T235959
END:VEVENT
END:VCALENDAR
