BEGIN:VCALENDAR
PRODID:-//eluceo/ical//2.0/EN
VERSION:2.0
CALSCALE:GREGORIAN
BEGIN:VEVENT
UID:bfeaa9884fa7bb6c4a20b1b490f3b2a2
DTSTAMP:20260420T195423Z
SUMMARY:International Holocaust Remembrance Day Program
DESCRIPTION:UJA Federation of Greater Toronto\nJewish Toronto Calendar\nhtt
 ps://jewishtoronto.com/calendar/international-holocaust-remembrance-day-pr
 ogram-1448992269\n\nJanuary 27 marks the anniversary of the liberation of 
 Auschwitz-Birkenau\, the largest Nazi death camp. In 2005\, the United Nat
 ions General Assembly designated this day as International Holocaust Remem
 brance Day (IHRD)*\, an annual day of commemoration to honour the victims 
 of the Nazi era. The Neuberger presents an annual public program.
DTSTART;TZID=America/Toronto:20160127T193000
DTEND;TZID=America/Toronto:20160127T213000
END:VEVENT
END:VCALENDAR
