BEGIN:VCALENDAR
PRODID:-//eluceo/ical//2.0/EN
VERSION:2.0
CALSCALE:GREGORIAN
BEGIN:VEVENT
UID:e7fd1df1b8f3d6a9befa50ef92cbe40e
DTSTAMP:20260422T222550Z
SUMMARY:International Holocaust Remembrance Day
DESCRIPTION:UJA Federation of Greater Toronto\nJewish Toronto Calendar\nhtt
 ps://jewishtoronto.com/calendar/international-holocaust-remembrance-day-14
 52714346\n\nCanadian National Yom Hashoah Commemoration Event\, led on beh
 alf of the Canadian Government\, at the War Museum in Ottawa. This event o
 ccurs annually on Yom Hashoah\, Holocaust Remembrance Day\, as defined in 
 the Israeli calendar. The Canadian Society for Yad Vashem organizes and ru
 ns this event in conjunction with other Jewish Holocaust commemoration Org
 anizations as part of the “Zachor Coalition”.\nAttended annually by mo
 re than 500 dignitaries\, Holocaust survivors\, students and members of...
DTSTART;TZID=America/Toronto:20160505T153000
DTEND;TZID=America/Toronto:20160505T235900
END:VEVENT
END:VCALENDAR
